Workbook

Sheet Predictions
A1: Team | C1: Race | D1: nibble | E1: Import111 | F1: BadOne | G1: Dannyvandelft | H1: F1 Silver Arrows | I1: Rwhiz | J1: VA90 | K1: APEXRaceParts
A2: Alpha Romeo Racing | B2: AR | C2: 8 | D2: 9 | E2: 8 | F2: 8 | G2: 8 | H2: 8 | I2: 9 | J2: 8 | K2: 9
A3: AlphaTauri | B3: AT | C3: 4 | D3: 4 | E3: 5 | F3: 7 | G3: 7 | H3: 7 | I3: 4 | J3: 5 | K3: 5
A4: Alpine | B4: AL | C4: 7 | D4: 7 | E4: 7 | F4: 5 | G4: 6 | H4: 5 | I4: 6 | J4: 6 | K4: 7
A5: Aston Martin | B5: AM | C5: 5 | D5: 5 | E5: 6 | F5: 6 | G5: 3 | H5: 3 | I5: 5 | J5: 4 | K5: 6
A6: Ferrari | B6: FR | C6: 6 | D6: 6 | E6: 3 | F6: 2 | G6: 5 | H6: 6 | I6: 7 | J6: 7 | K6: 4
A7: HAAS F1 Team | B7: HA | C7: 10 | D7: 10 | E7: 10 | F7: 10 | G7: 9 | H7: 10 | I7: 10 | J7: 10 | K7: 10
A8: McLaren | B8: ML | C8: 3 | D8: 3 | E8: 4 | F8: 4 | G8: 4 | H8: 4 | I8: 3 | J8: 3 | K8: 3
A9: Mercedes | B9: MC | C9: 2 | D9: 1 | E9: 2 | F9: 3 | G9: 2 | H9: 1 | I9: 1 | J9: 1 | K9: 1
A10: Red Bull Racing | B10: RB | C10: 1 | D10: 2 | E10: 1 | F10: 1 | G10: 1 | H10: 2 | I10: 2 | J10: 2 | K10: 2
A11: Williams | B11: WI | C11: 9 | D11: 8 | E11: 9 | F11: 9 | G11: 10 | H11: 9 | I11: 8 | J11: 9 | K11: 8
A12: Penalties | C12: 0 | D12: 0 | E12: 0 | F12: 0 | G12: 0 | H12: 0 | I12: 0 | J12: 0 | K12: 0
C13: =CONCATENATE(C2,C3,C4,C5,C6,C7,C8,C9,C10,C11) -> 84756103219 | D13: =CONCATENATE(D2,D3,D4,D5,D6,D7,D8,D9,D10,D11) -> 94756103128 | E13: =CONCATENATE(E2,E3,E4,E5,E6,E7,E8,E9,E10,E11) -> 85763104219 | F13: =CONCATENATE(F2,F3,F4,F5,F6,F7,F8,F9,F10,F11) -> 87562104319 | G13: =CONCATENATE(G2,G3,G4,G5,G6,G7,G8,G9,G10,G11) -> 87635942110 | H13: =CONCATENATE(H2,H3,H4,H5,H6,H7,H8,H9,H10,H11) -> 87536104129 | I13: =CONCATENATE(I2,I3,I4,I5,I6,I7,I8,I9,I10,I11) -> 94657103128 | J13: =CONCATENATE(J2,J3,J4,J5,J6,J7,J8,J9,J10,J11) -> 85647103129 | K13: =CONCATENATE(K2,K3,K4,K5,K6,K7,K8,K9,K10,K11) -> 95764103128
C14: =COUNTIF(13:13,C13) -> 1 | D14: =COUNTIF(13:13,D13) -> 1 | E14: =COUNTIF(13:13,E13) -> 1 | F14: =COUNTIF(13:13,F13) -> 1 | G14: =COUNTIF(13:13,G13) -> 1 | H14: =COUNTIF(13:13,H13) -> 1 | I14: =COUNTIF(13:13,I13) -> 1 | J14: =COUNTIF(13:13,J13) -> 1 | K14: =COUNTIF(13:13,K13) -> 1
A15: Is there same predictions? | C15: =IF(C14>1,"Yes","Unique") -> Unique | D15: =IF(D14>1,"Yes","Unique") -> Unique | E15: =IF(E14>1,"Yes","Unique") -> Unique | F15: =IF(F14>1,"Yes","Unique") -> Unique | G15: =IF(G14>1,"Yes","Unique") -> Unique | H15: =IF(H14>1,"Yes","Unique") -> Unique | I15: =IF(I14>1,"Yes","Unique") -> Unique | J15: =IF(J14>1,"Yes","Unique") -> Unique | K15: =IF(K14>1,"Yes","Unique") -> Unique
C19: 1. Red Bull | D19: 1. Mercedes AMG | E19: 1. Red Bull | F19: 1. Red Bull | G19: 1: RBR | H19: 1. Mercedes-AMG F1 | I19: 1. Mercedes | J19: Mercedes AMG | K19: Mercedes AMG
C20: 2. Mercedes AMG | D20: 2. Red Bull | E20: 2. Mercedes AMG | F20: 2. Ferrari | G20: 2: Mercedes AMG | H20: 2. RedBull Racing | I20: 2. Red Bull | J20: Red Bull | K20: Red Bull
C21: 3. Mclaren | D21: 3. McLauren | E21: 3. Ferrari | F21: 3. Mercedes AMG | G21: 3: Aston Martin | H21: 3. Aston-Martin F1 | I21: 3. McLaren | J21: McLaren | K21: McLaren
C22: 4. Alpha Tauri | D22: 4. Alpha Tauri | E22: 4. Maclean | F22: 4. Mclaren | G22: 4: McLaren | H22: 4. McLaren F1 | I22: 4. Alpha Tauri | J22: Aston Martin | K22: Ferrari
C23: 5. Aston Martin | D23: 5. Aston Martin | E23: 5. Alpha Tauri | F23: 5. Alpine | G23: 5: Ferrari | H23: 5. Alpine F1 | I23: 5. Aston Martin | J23: Alpha Tauri | K23: Alpha Tauri
C24: 6. Ferrari | D24: 6. Ferrari | E24: 6. Aston Martin | F24: 6. Aston Martin | G24: 6: Alpine | H24: 6. Scuderia Ferrari | I24: 6. Alpine | J24: Alpine | K24: Aston Martin
C25: 7. Alpine | D25: 7. Alpine | E25: 7. Alpine | F25: 7. Alpha Tauri | G25: 7: Alpha Tauri | H25: 7. Scuderia AlphaTauri F1 | I25: 7. Ferrari | J25: Ferrari | K25: Alpine
C26: 8. Alpha Romeo | D26: 8. Williams | E26: 8. Alpha Romeo | F26: 8. Alpha Romeo | G26: 8: Alfa Romeo | H26: 8. Alfa Romeo F1 | I26: 8. Williams | J26: Alfa Romeo | K26: Williams
C27: 9. Williams | D27: 9. Alpha Romeo | E27: 9. Williams | F27: 9. Williams | G27: 9: HAAS | H27: 9. Williams F1 | I27: 9. Alpha Romeo | J27: Williams | K27: Alfa Romeo
C28: 10. Haas | D28: 10. HAAS | E28: 10. Haas | F28: 10. Haas | G28: 10: Williams | H28: 10. Haas F1 | I28: 10. Haas | J28: Haas | K28: Haas

Sheet Penalty Schedule
A1: missed rounds | B1: penalty
A2: 1 ~ 2 | B2: -2
A3: 3 ~ 4 | B3: -6
A4: 5 ~ 6 | B4: -12
A5: 6 ~ 8 | B5: -22
A6: 9 ~ 10 | B6: -38
A7: 11 ~ 12 | B7: -76
A8: 12 ~ 14 | B8: -152
A9: 15 ~ 16 | B9: -193
A10: 17 ~ 18 | B10: -225
A11: 19 ~ 22 | B11: -240

Sheet Scores
A1: Team | B1: Current Rank | C1: Race | D1: nibble | E1: Import111 | F1: BadOne | G1: Dannyvandelft | H1: F1 Silver Arrows | I1: Rwiz | J1: VA90 | K1: APEXRaceParts
A2: Alpha Romeo Racing | B2: 7 | C2: =IF(Predictions!C2=$B2,25,($B2-Predictions!C2)*-5) -> 5 | D2: =IF(Predictions!D2=$B2,25,($B2-Predictions!D2)*-5) -> 10 | E2: =IF(Predictions!E2=$B2,25,($B2-Predictions!E2)*-5) -> 5 | F2: =IF(Predictions!F2=$B2,25,($B2-Predictions!F2)*-5) -> 5 | G2: =IF(Predictions!G2=$B2,25,($B2-Predictions!G2)*-5) -> 5 | H2: =IF(Predictions!H2=$B2,25,($B2-Predictions!H2)*-5) -> 5 | I2: =IF(Predictions!I2=$B2,25,($B2-Predictions!I2)*-5) -> 10 | J2: =IF(Predictions!J2=$B2,25,($B2-Predictions!J2)*-5) -> 5 | K2: =IF(Predictions!K2=$B2,25,($B2-Predictions!K2)*-5) -> 10
A3: AlphaTauri | B3: 5 | C3: =IF(Predictions!C3=$B3,25,($B3-Predictions!C3)*-5) -> -5 | D3: =IF(Predictions!D3=$B3,25,($B3-Predictions!D3)*-5) -> -5 | E3: =IF(Predictions!E3=$B3,25,($B3-Predictions!E3)*-5) -> 25 | F3: =IF(Predictions!F3=$B3,25,($B3-Predictions!F3)*-5) -> 10 | G3: =IF(Predictions!G3=$B3,25,($B3-Predictions!G3)*-5) -> 10 | H3: =IF(Predictions!H3=$B3,25,($B3-Predictions!H3)*-5) -> 10 | I3: =IF(Predictions!I3=$B3,25,($B3-Predictions!I3)*-5) -> -5 | J3: =IF(Predictions!J3=$B3,25,($B3-Predictions!J3)*-5) -> 25 | K3: =IF(Predictions!K3=$B3,25,($B3-Predictions!K3)*-5) -> 25
A4: Alpine | B4: 8 | C4: =IF(Predictions!C4=$B4,25,($B4-Predictions!C4)*-5) -> -5 | D4: =IF(Predictions!D4=$B4,25,($B4-Predictions!D4)*-5) -> -5 | E4: =IF(Predictions!E4=$B4,25,($B4-Predictions!E4)*-5) -> -5 | F4: =IF(Predictions!F4=$B4,25,($B4-Predictions!F4)*-5) -> -15 | G4: =IF(Predictions!G4=$B4,25,($B4-Predictions!G4)*-5) -> -10 | H4: =IF(Predictions!H4=$B4,25,($B4-Predictions!H4)*-5) -> -15 | I4: =IF(Predictions!I4=$B4,25,($B4-Predictions!I4)*-5) -> -10 | J4: =IF(Predictions!J4=$B4,25,($B4-Predictions!J4)*-5) -> -10 | K4: =IF(Predictions!K4=$B4,25,($B4-Predictions!K4)*-5) -> -5
A5: Aston Martin | B5: 6 | C5: =IF(Predictions!C5=$B5,25,($B5-Predictions!C5)*-5) -> -5 | D5: =IF(Predictions!D5=$B5,25,($B5-Predictions!D5)*-5) -> -5 | E5: =IF(Predictions!E5=$B5,25,($B5-Predictions!E5)*-5) -> 25 | F5: =IF(Predictions!F5=$B5,25,($B5-Predictions!F5)*-5) -> 25 | G5: =IF(Predictions!G5=$B5,25,($B5-Predictions!G5)*-5) -> -15 | H5: =IF(Predictions!H5=$B5,25,($B5-Predictions!H5)*-5) -> -15 | I5: =IF(Predictions!I5=$B5,25,($B5-Predictions!I5)*-5) -> -5 | J5: =IF(Predictions!J5=$B5,25,($B5-Predictions!J5)*-5) -> -10 | K5: =IF(Predictions!K5=$B5,25,($B5-Predictions!K5)*-5) -> 25
A6: Ferrari | B6: 4 | C6: =IF(Predictions!C6=$B6,25,($B6-Predictions!C6)*-5) -> 10 | D6: =IF(Predictions!D6=$B6,25,($B6-Predictions!D6)*-5) -> 10 | E6: =IF(Predictions!E6=$B6,25,($B6-Predictions!E6)*-5) -> -5 | F6: =IF(Predictions!F6=$B6,25,($B6-Predictions!F6)*-5) -> -10 | G6: =IF(Predictions!G6=$B6,25,($B6-Predictions!G6)*-5) -> 5 | H6: =IF(Predictions!H6=$B6,25,($B6-Predictions!H6)*-5) -> 10 | I6: =IF(Predictions!I6=$B6,25,($B6-Predictions!I6)*-5) -> 15 | J6: =IF(Predictions!J6=$B6,25,($B6-Predictions!J6)*-5) -> 15 | K6: =IF(Predictions!K6=$B6,25,($B6-Predictions!K6)*-5) -> 25
A7: HAAS F1 Team | B7: 10 | C7: =IF(Predictions!C7=$B7,25,($B7-Predictions!C7)*-5) -> 25 | D7: =IF(Predictions!D7=$B7,25,($B7-Predictions!D7)*-5) -> 25 | E7: =IF(Predictions!E7=$B7,25,($B7-Predictions!E7)*-5) -> 25 | F7: =IF(Predictions!F7=$B7,25,($B7-Predictions!F7)*-5) -> 25 | G7: =IF(Predictions!G7=$B7,25,($B7-Predictions!G7)*-5) -> -5 | H7: =IF(Predictions!H7=$B7,25,($B7-Predictions!H7)*-5) -> 25 | I7: =IF(Predictions!I7=$B7,25,($B7-Predictions!I7)*-5) -> 25 | J7: =IF(Predictions!J7=$B7,25,($B7-Predictions!J7)*-5) -> 25 | K7: =IF(Predictions!K7=$B7,25,($B7-Predictions!K7)*-5) -> 25
A8: McLaren | B8: 3 | C8: =IF(Predictions!C8=$B8,25,($B8-Predictions!C8)*-5) -> 25 | D8: =IF(Predictions!D8=$B8,25,($B8-Predictions!D8)*-5) -> 25 | E8: =IF(Predictions!E8=$B8,25,($B8-Predictions!E8)*-5) -> 5 | F8: =IF(Predictions!F8=$B8,25,($B8-Predictions!F8)*-5) -> 5 | G8: =IF(Predictions!G8=$B8,25,($B8-Predictions!G8)*-5) -> 5 | H8: =IF(Predictions!H8=$B8,25,($B8-Predictions!H8)*-5) -> 5 | I8: =IF(Predictions!I8=$B8,25,($B8-Predictions!I8)*-5) -> 25 | J8: =IF(Predictions!J8=$B8,25,($B8-Predictions!J8)*-5) -> 25 | K8: =IF(Predictions!K8=$B8,25,($B8-Predictions!K8)*-5) -> 25
A9: Mercedes | B9: 1 | C9: =IF(Predictions!C9=$B9,25,($B9-Predictions!C9)*-5) -> 5 | D9: =IF(Predictions!D9=$B9,25,($B9-Predictions!D9)*-5) -> 25 | E9: =IF(Predictions!E9=$B9,25,($B9-Predictions!E9)*-5) -> 5 | F9: =IF(Predictions!F9=$B9,25,($B9-Predictions!F9)*-5) -> 10 | G9: =IF(Predictions!G9=$B9,25,($B9-Predictions!G9)*-5) -> 5 | H9: =IF(Predictions!H9=$B9,25,($B9-Predictions!H9)*-5) -> 25 | I9: =IF(Predictions!I9=$B9,25,($B9-Predictions!I9)*-5) -> 25 | J9: =IF(Predictions!J9=$B9,25,($B9-Predictions!J9)*-5) -> 25 | K9: =IF(Predictions!K9=$B9,25,($B9-Predictions!K9)*-5) -> 25
A10: Red Bull Racing | B10: 2 | C10: =IF(Predictions!C10=$B10,25,($B10-Predictions!C10)*-5) -> -5 | D10: =IF(Predictions!D10=$B10,25,($B10-Predictions!D10)*-5) -> 25 | E10: =IF(Predictions!E10=$B10,25,($B10-Predictions!E10)*-5) -> -5 | F10: =IF(Predictions!F10=$B10,25,($B10-Predictions!F10)*-5) -> -5 | G10: =IF(Predictions!G10=$B10,25,($B10-Predictions!G10)*-5) -> -5 | H10: =IF(Predictions!H10=$B10,25,($B10-Predictions!H10)*-5) -> 25 | I10: =IF(Predictions!I10=$B10,25,($B10-Predictions!I10)*-5) -> 25 | J10: =IF(Predictions!J10=$B10,25,($B10-Predictions!J10)*-5) -> 25 | K10: =IF(Predictions!K10=$B10,25,($B10-Predictions!K10)*-5) -> 25
A11: Williams | B11: 9 | C11: =IF(Predictions!C11=$B11,25,($B11-Predictions!C11)*-5) -> 25 | D11: =IF(Predictions!D11=$B11,25,($B11-Predictions!D11)*-5) -> -5 | E11: =IF(Predictions!E11=$B11,25,($B11-Predictions!E11)*-5) -> 25 | F11: =IF(Predictions!F11=$B11,25,($B11-Predictions!F11)*-5) -> 25 | G11: =IF(Predictions!G11=$B11,25,($B11-Predictions!G11)*-5) -> 5 | H11: =IF(Predictions!H11=$B11,25,($B11-Predictions!H11)*-5) -> 25 | I11: =IF(Predictions!I11=$B11,25,($B11-Predictions!I11)*-5) -> -5 | J11: =IF(Predictions!J11=$B11,25,($B11-Predictions!J11)*-5) -> 25 | K11: =IF(Predictions!K11=$B11,25,($B11-Predictions!K11)*-5) -> -5
A12: penaties | C12: =Predictions!C12 -> 0 | D12: =Predictions!D12 -> 0 | E12: =Predictions!E12 -> 0 | F12: =Predictions!F12 -> 0 | G12: =Predictions!G12 -> 0 | H12: =Predictions!H12 -> 0 | I12: =Predictions!I12 -> 0 | J12: =Predictions!J12 -> 0 | K12: =Predictions!K12 -> 0
A13: Score | C13: =SUM(C2:C12) -> 75 | D13: =SUM(D2:D12) -> 100 | E13: =SUM(E2:E12) -> 100 | F13: =SUM(F2:F12) -> 75 | G13: =SUM(G2:G12) -> 0 | H13: =SUM(H2:H12) -> 100 | I13: =SUM(I2:I12) -> 100 | J13: =SUM(J2:J12) -> 150 | K13: =SUM(K2:K12) -> 175
A15: Is there same predictions? | C15: =Predictions!C15 -> Unique | D15: =Predictions!D15 -> Unique | E15: =Predictions!E15 -> Unique | F15: =Predictions!F15 -> Unique | G15: =Predictions!G15 -> Unique | H15: =Predictions!H15 -> Unique | I15: =Predictions!I15 -> Unique | J15: =Predictions!J15 -> Unique | K15: =Predictions!K15 -> Unique
